BEGIN:VCALENDAR
VERSION:2.0
PRODID:-//Aylburton Parish Council//Meeting Calendar//EN
CALSCALE:GREGORIAN
METHOD:PUBLISH
BEGIN:VEVENT
UID:70427-20240903@aylburton-pc.gov.uk
DTSTAMP:20260422T083908Z
DTSTART;VALUE=DATE:20240903
DTEND;VALUE=DATE:20240904
SUMMARY:Full Council Meeting &#8211\\; 3 September 2024
DESCRIPTION:Full Council Meeting\nView details: https://aylburton-pc.gov.uk/meetings/full-council-meeting-3-september-2024/
URL:https://aylburton-pc.gov.uk/meetings/full-council-meeting-3-september-2024/
END:VEVENT
END:VCALENDAR
