BEGIN:VCALENDAR
VERSION:2.0
PRODID:-//Aylburton Parish Council//Meeting Calendar//EN
CALSCALE:GREGORIAN
METHOD:PUBLISH
BEGIN:VEVENT
UID:70429-20240702@aylburton-pc.gov.uk
DTSTAMP:20260424T083201Z
DTSTART;VALUE=DATE:20240702
DTEND;VALUE=DATE:20240703
SUMMARY:Full Council Meeting &#8211\\; 2 July 2024
DESCRIPTION:Full Council Meeting\nView details: https://aylburton-pc.gov.uk/meetings/full-council-meeting-2-july-2024/
URL:https://aylburton-pc.gov.uk/meetings/full-council-meeting-2-july-2024/
END:VEVENT
END:VCALENDAR
