BEGIN:VCALENDAR
VERSION:2.0
PRODID:-//Aylburton Parish Council//Meeting Calendar//EN
CALSCALE:GREGORIAN
METHOD:PUBLISH
BEGIN:VEVENT
UID:70433-20240507@aylburton-pc.gov.uk
DTSTAMP:20260424T083201Z
DTSTART;VALUE=DATE:20240507
DTEND;VALUE=DATE:20240508
SUMMARY:Annual Council &#038\\; Full Council Meeting &#8211\\; 7 May 2024
DESCRIPTION:Full Council Meeting\nView details: https://aylburton-pc.gov.uk/meetings/full-council-meeting-7-may-2024/
URL:https://aylburton-pc.gov.uk/meetings/full-council-meeting-7-may-2024/
END:VEVENT
END:VCALENDAR
