BEGIN:VCALENDAR
VERSION:2.0
PRODID:-//Aylburton Parish Council//Meeting Calendar//EN
CALSCALE:GREGORIAN
METHOD:PUBLISH
BEGIN:VEVENT
UID:70441-20240109@aylburton-pc.gov.uk
DTSTAMP:20260422T084050Z
DTSTART;VALUE=DATE:20240109
DTEND;VALUE=DATE:20240110
SUMMARY:Full Council Meeting &#8211\\; 9 January 2024
DESCRIPTION:Full Council Meeting\nView details: https://aylburton-pc.gov.uk/meetings/full-council-meeting-9-january-2024/
URL:https://aylburton-pc.gov.uk/meetings/full-council-meeting-9-january-2024/
END:VEVENT
END:VCALENDAR
