BEGIN:VCALENDAR
VERSION:2.0
PRODID:-//Aylburton Parish Council//Meeting Calendar//EN
CALSCALE:GREGORIAN
METHOD:PUBLISH
BEGIN:VEVENT
UID:70630-20241105@aylburton-pc.gov.uk
DTSTAMP:20260422T084405Z
DTSTART;VALUE=DATE:20241105
DTEND;VALUE=DATE:20241106
SUMMARY:Full Council Meeting &#8211\\; 5 November 2024
DESCRIPTION:Full Council Meeting\nView details: https://aylburton-pc.gov.uk/meetings/full-council-meeting-5-november-2024/
URL:https://aylburton-pc.gov.uk/meetings/full-council-meeting-5-november-2024/
END:VEVENT
END:VCALENDAR
