BEGIN:VCALENDAR
VERSION:2.0
PRODID:-//Aylburton Parish Council//Meeting Calendar//EN
CALSCALE:GREGORIAN
METHOD:PUBLISH
BEGIN:VEVENT
UID:70632-20250107@aylburton-pc.gov.uk
DTSTAMP:20260422T084405Z
DTSTART;VALUE=DATE:20250107
DTEND;VALUE=DATE:20250108
SUMMARY:Full Council Meeting &#8211\\; 7 January 2025
DESCRIPTION:Full Council Meeting\nView details: https://aylburton-pc.gov.uk/meetings/full-council-meeting-7-january-2025/
URL:https://aylburton-pc.gov.uk/meetings/full-council-meeting-7-january-2025/
END:VEVENT
END:VCALENDAR
